BEGIN:VCALENDAR
VERSION:2.0
PRODID:-//hacksw/handcal//NONSGML v1.0//EN
METHOD:PUBLISH
BEGIN:VEVENT
DTSTART:20260618T100000
DTEND:20260618T160000
LOCATION:Komische Oper Berlin
TRANSP:OPAQUE
SEQUENCE:0
UID:75281369e8cd45cedde
DTSTAMP:20260422T152941
SUMMARY:Fachtag Early Excellence 2026
DESCRIPTION:
ORGANIZER;CN="Heinz und Heide Dürr Stiftung":MAILTO:info@heinzundheideduerrstiftung.de

PRIORITY:1
CLASS:PUBLIC
BEGIN:VALARM
TRIGGER:-PT10080M
ACTION:DISPLAY
DESCRIPTION:Reminder
END:VALARM
END:VEVENT
END:VCALENDAR
